BEGIN:VCALENDAR
VERSION:2.0
PRODID:-//High Hurstwood Village Hall - ECPv6.7.0//NONSGML v1.0//EN
CALSCALE:GREGORIAN
METHOD:PUBLISH
X-ORIGINAL-URL:https://highhurstwoodvillagehall.com
X-WR-CALDESC:Events for High Hurstwood Village Hall
REFRESH-INTERVAL;VALUE=DURATION:PT1H
X-Robots-Tag:noindex
X-PUBLISHED-TTL:PT1H
BEGIN:VTIMEZONE
TZID:UTC
BEGIN:STANDARD
TZOFFSETFROM:+0000
TZOFFSETTO:+0000
TZNAME:UTC
DTSTART:20250101T000000
END:STANDARD
END:VTIMEZONE
BEGIN:VEVENT
DTSTART;TZID=UTC:20250304T140000
DTEND;TZID=UTC:20250304T160000
DTSTAMP:20260421T140545
CREATED:20231107T104243Z
LAST-MODIFIED:20231107T104243Z
UID:10001215-1741096800-1741104000@highhurstwoodvillagehall.com
SUMMARY:Post Office
DESCRIPTION:
URL:https://highhurstwoodvillagehall.com/event/post-office/2025-03-04/
LOCATION:High Hurstwood Village Hall\, Chillies Lane High Hurstwood\, East Sussex TN22 4AD United Kingdom
END:VEVENT
BEGIN:VEVENT
DTSTART;TZID=UTC:20250306T184500
DTEND;TZID=UTC:20250306T201500
DTSTAMP:20260421T140545
CREATED:20231107T104552Z
LAST-MODIFIED:20260209T160529Z
UID:10008702-1741286700-1741292100@highhurstwoodvillagehall.com
SUMMARY:Jewel Performing Arts
DESCRIPTION:
URL:https://highhurstwoodvillagehall.com/event/jewel-performing-arts/2025-03-06/
LOCATION:High Hurstwood Village Hall\, Chillies Lane High Hurstwood\, East Sussex TN22 4AD United Kingdom
END:VEVENT
BEGIN:VEVENT
DTSTART;TZID=UTC:20250311T140000
DTEND;TZID=UTC:20250311T160000
DTSTAMP:20260421T140545
CREATED:20231107T104243Z
LAST-MODIFIED:20231107T104243Z
UID:10001216-1741701600-1741708800@highhurstwoodvillagehall.com
SUMMARY:Post Office
DESCRIPTION:
URL:https://highhurstwoodvillagehall.com/event/post-office/2025-03-11/
LOCATION:High Hurstwood Village Hall\, Chillies Lane High Hurstwood\, East Sussex TN22 4AD United Kingdom
END:VEVENT
BEGIN:VEVENT
DTSTART;TZID=UTC:20250313T184500
DTEND;TZID=UTC:20250313T201500
DTSTAMP:20260421T140545
CREATED:20231107T104552Z
LAST-MODIFIED:20260209T160529Z
UID:10008703-1741891500-1741896900@highhurstwoodvillagehall.com
SUMMARY:Jewel Performing Arts
DESCRIPTION:
URL:https://highhurstwoodvillagehall.com/event/jewel-performing-arts/2025-03-13/
LOCATION:High Hurstwood Village Hall\, Chillies Lane High Hurstwood\, East Sussex TN22 4AD United Kingdom
END:VEVENT
BEGIN:VEVENT
DTSTART;TZID=UTC:20250318T140000
DTEND;TZID=UTC:20250318T160000
DTSTAMP:20260421T140545
CREATED:20231107T104243Z
LAST-MODIFIED:20231107T104243Z
UID:10001217-1742306400-1742313600@highhurstwoodvillagehall.com
SUMMARY:Post Office
DESCRIPTION:
URL:https://highhurstwoodvillagehall.com/event/post-office/2025-03-18/
LOCATION:High Hurstwood Village Hall\, Chillies Lane High Hurstwood\, East Sussex TN22 4AD United Kingdom
END:VEVENT
BEGIN:VEVENT
DTSTART;TZID=UTC:20250320T184500
DTEND;TZID=UTC:20250320T201500
DTSTAMP:20260421T140545
CREATED:20231107T104552Z
LAST-MODIFIED:20260209T160529Z
UID:10008704-1742496300-1742501700@highhurstwoodvillagehall.com
SUMMARY:Jewel Performing Arts
DESCRIPTION:
URL:https://highhurstwoodvillagehall.com/event/jewel-performing-arts/2025-03-20/
LOCATION:High Hurstwood Village Hall\, Chillies Lane High Hurstwood\, East Sussex TN22 4AD United Kingdom
END:VEVENT
BEGIN:VEVENT
DTSTART;TZID=UTC:20250325T140000
DTEND;TZID=UTC:20250325T160000
DTSTAMP:20260421T140545
CREATED:20231107T104243Z
LAST-MODIFIED:20231107T104243Z
UID:10001218-1742911200-1742918400@highhurstwoodvillagehall.com
SUMMARY:Post Office
DESCRIPTION:
URL:https://highhurstwoodvillagehall.com/event/post-office/2025-03-25/
LOCATION:High Hurstwood Village Hall\, Chillies Lane High Hurstwood\, East Sussex TN22 4AD United Kingdom
END:VEVENT
BEGIN:VEVENT
DTSTART;TZID=UTC:20250327T184500
DTEND;TZID=UTC:20250327T201500
DTSTAMP:20260421T140545
CREATED:20231107T104552Z
LAST-MODIFIED:20260209T160529Z
UID:10008705-1743101100-1743106500@highhurstwoodvillagehall.com
SUMMARY:Jewel Performing Arts
DESCRIPTION:
URL:https://highhurstwoodvillagehall.com/event/jewel-performing-arts/2025-03-27/
LOCATION:High Hurstwood Village Hall\, Chillies Lane High Hurstwood\, East Sussex TN22 4AD United Kingdom
END:VEVENT
END:VCALENDAR