BEGIN:VCALENDAR
VERSION:2.0
PRODID:-//High Hurstwood Village Hall - ECPv6.7.0//NONSGML v1.0//EN
CALSCALE:GREGORIAN
METHOD:PUBLISH
X-WR-CALNAME:High Hurstwood Village Hall
X-ORIGINAL-URL:https://highhurstwoodvillagehall.com
X-WR-CALDESC:Events for High Hurstwood Village Hall
REFRESH-INTERVAL;VALUE=DURATION:PT1H
X-Robots-Tag:noindex
X-PUBLISHED-TTL:PT1H
BEGIN:VTIMEZONE
TZID:UTC
BEGIN:STANDARD
TZOFFSETFROM:+0000
TZOFFSETTO:+0000
TZNAME:UTC
DTSTART:20250101T000000
END:STANDARD
END:VTIMEZONE
BEGIN:VEVENT
DTSTART;TZID=UTC:20250804T070000
DTEND;TZID=UTC:20250804T200000
DTSTAMP:20260420T140303
CREATED:20250531T171247Z
LAST-MODIFIED:20250531T171247Z
UID:10010048-1754290800-1754337600@highhurstwoodvillagehall.com
SUMMARY:Joyful Moves Aerobics with Gemma
DESCRIPTION:
URL:https://highhurstwoodvillagehall.com/event/joyful-moves-aerobics-with-gemma/2025-08-04/
END:VEVENT
BEGIN:VEVENT
DTSTART;TZID=UTC:20250804T080000
DTEND;TZID=UTC:20250804T210000
DTSTAMP:20260420T140303
CREATED:20250531T171819Z
LAST-MODIFIED:20250531T171819Z
UID:10010308-1754294400-1754341200@highhurstwoodvillagehall.com
SUMMARY:High Hurstwood Badminton Club
DESCRIPTION:
URL:https://highhurstwoodvillagehall.com/event/high-hurstwood-badminton-club/2025-08-04/
END:VEVENT
BEGIN:VEVENT
DTSTART;TZID=UTC:20250805T140000
DTEND;TZID=UTC:20250805T160000
DTSTAMP:20260420T140303
CREATED:20231107T104243Z
LAST-MODIFIED:20231107T104243Z
UID:10001237-1754402400-1754409600@highhurstwoodvillagehall.com
SUMMARY:Post Office
DESCRIPTION:
URL:https://highhurstwoodvillagehall.com/event/post-office/2025-08-05/
LOCATION:High Hurstwood Village Hall\, Chillies Lane High Hurstwood\, East Sussex TN22 4AD United Kingdom
END:VEVENT
BEGIN:VEVENT
DTSTART;TZID=UTC:20250811T070000
DTEND;TZID=UTC:20250811T200000
DTSTAMP:20260420T140303
CREATED:20250531T171247Z
LAST-MODIFIED:20250531T171247Z
UID:10010049-1754895600-1754942400@highhurstwoodvillagehall.com
SUMMARY:Joyful Moves Aerobics with Gemma
DESCRIPTION:
URL:https://highhurstwoodvillagehall.com/event/joyful-moves-aerobics-with-gemma/2025-08-11/
END:VEVENT
BEGIN:VEVENT
DTSTART;TZID=UTC:20250811T080000
DTEND;TZID=UTC:20250811T210000
DTSTAMP:20260420T140303
CREATED:20250531T171819Z
LAST-MODIFIED:20250531T171819Z
UID:10010309-1754899200-1754946000@highhurstwoodvillagehall.com
SUMMARY:High Hurstwood Badminton Club
DESCRIPTION:
URL:https://highhurstwoodvillagehall.com/event/high-hurstwood-badminton-club/2025-08-11/
END:VEVENT
BEGIN:VEVENT
DTSTART;TZID=UTC:20250812T140000
DTEND;TZID=UTC:20250812T160000
DTSTAMP:20260420T140303
CREATED:20231107T104243Z
LAST-MODIFIED:20231107T104243Z
UID:10001238-1755007200-1755014400@highhurstwoodvillagehall.com
SUMMARY:Post Office
DESCRIPTION:
URL:https://highhurstwoodvillagehall.com/event/post-office/2025-08-12/
LOCATION:High Hurstwood Village Hall\, Chillies Lane High Hurstwood\, East Sussex TN22 4AD United Kingdom
END:VEVENT
BEGIN:VEVENT
DTSTART;TZID=UTC:20250818T070000
DTEND;TZID=UTC:20250818T200000
DTSTAMP:20260420T140303
CREATED:20250531T171247Z
LAST-MODIFIED:20250531T171247Z
UID:10010050-1755500400-1755547200@highhurstwoodvillagehall.com
SUMMARY:Joyful Moves Aerobics with Gemma
DESCRIPTION:
URL:https://highhurstwoodvillagehall.com/event/joyful-moves-aerobics-with-gemma/2025-08-18/
END:VEVENT
BEGIN:VEVENT
DTSTART;TZID=UTC:20250818T080000
DTEND;TZID=UTC:20250818T210000
DTSTAMP:20260420T140303
CREATED:20250531T171819Z
LAST-MODIFIED:20250531T171819Z
UID:10010310-1755504000-1755550800@highhurstwoodvillagehall.com
SUMMARY:High Hurstwood Badminton Club
DESCRIPTION:
URL:https://highhurstwoodvillagehall.com/event/high-hurstwood-badminton-club/2025-08-18/
END:VEVENT
BEGIN:VEVENT
DTSTART;TZID=UTC:20250819T140000
DTEND;TZID=UTC:20250819T160000
DTSTAMP:20260420T140303
CREATED:20231107T104243Z
LAST-MODIFIED:20231107T104243Z
UID:10001239-1755612000-1755619200@highhurstwoodvillagehall.com
SUMMARY:Post Office
DESCRIPTION:
URL:https://highhurstwoodvillagehall.com/event/post-office/2025-08-19/
LOCATION:High Hurstwood Village Hall\, Chillies Lane High Hurstwood\, East Sussex TN22 4AD United Kingdom
END:VEVENT
BEGIN:VEVENT
DTSTART;TZID=UTC:20250826T140000
DTEND;TZID=UTC:20250826T160000
DTSTAMP:20260420T140303
CREATED:20231107T104243Z
LAST-MODIFIED:20231107T104243Z
UID:10001240-1756216800-1756224000@highhurstwoodvillagehall.com
SUMMARY:Post Office
DESCRIPTION:
URL:https://highhurstwoodvillagehall.com/event/post-office/2025-08-26/
LOCATION:High Hurstwood Village Hall\, Chillies Lane High Hurstwood\, East Sussex TN22 4AD United Kingdom
END:VEVENT
END:VCALENDAR